BEGIN:VCALENDAR
VERSION:2.0
PRODID:-//Marsfield Community Church - ECPv4.8.2//NONSGML v1.0//EN
CALSCALE:GREGORIAN
METHOD:PUBLISH
X-WR-CALNAME:Marsfield Community Church
X-ORIGINAL-URL:http://marsfieldcc.org.au
X-WR-CALDESC:Events for Marsfield Community Church
BEGIN:VEVENT
DTSTART;TZID=Australia/Sydney:20200131T170000
DTEND;TZID=Australia/Sydney:20200131T200000
DTSTAMP:20200302T054515
CREATED:20200131T110352Z
LAST-MODIFIED:20200131T110352Z
UID:3738-1580490000-1580500800@marsfieldcc.org.au
SUMMARY:Impact Youth Group
DESCRIPTION:If you are in Years 6-12 at school\, our youth group\, called Impact\, is for you. When you come you can expect to have some great food and some games and also hear about Jesus who we think helps us live life to the full. We also go on outings from time to time. We meet every Friday in Term time from 6:30pm at Church. Email Hans at hans@marsfieldcc.org.au for more information or just rock up and check us out. \n
URL:http://marsfieldcc.org.au/event/impact-youth-group-15/2020-01-31/
LOCATION:Marsfield Community Church\, 58-60 Agincourt Rd.\, Marsfield\, NSW\, 2122
CATEGORIES:Youth
ORGANIZER;CN="Marsfield%20Community%20Church":MAILTO:info@marsfieldcc.org.au
END:VEVENT
END:VCALENDAR