BEGIN:VCALENDAR
VERSION:2.0
PRODID:-//Marsfield Community Church - ECPv4.8.2//NONSGML v1.0//EN
CALSCALE:GREGORIAN
METHOD:PUBLISH
X-WR-CALNAME:Marsfield Community Church
X-ORIGINAL-URL:http://marsfieldcc.org.au
X-WR-CALDESC:Events for Marsfield Community Church
BEGIN:VEVENT
DTSTART;TZID=Australia/Sydney:20200208T080000
DTEND;TZID=Australia/Sydney:20200208T150000
DTSTAMP:20200302T055057
CREATED:20200112T100728Z
LAST-MODIFIED:20200112T100729Z
UID:3582-1581148800-1581174000@marsfieldcc.org.au
SUMMARY:Working Bee Saturday 8 February
DESCRIPTION:Please join us to help as we have a Working Bee on Saturday 8 February 2020\, 8am – 3pm to help tidy up the church grounds. Any time you can spare will be greatly appreciated. \n
URL:http://marsfieldcc.org.au/event/working-bee-saturday-8-february/
LOCATION:Marsfield Community Church\, 58-60 Agincourt Rd.\, Marsfield\, NSW\, 2122
ORGANIZER;CN="Marsfield%20Community%20Church":MAILTO:info@marsfieldcc.org.au
END:VEVENT
END:VCALENDAR